BEGIN:VCALENDAR
VERSION:2.0
PRODID:veterans.georgia.gov
X-WR-TIMEZONE:America/New_York
BEGIN:VTIMEZONE
TZID:America/New_York
X-LIC-LOCATION:America/New_York
END:VTIMEZONE
BEGIN:VEVENT
UID:6088f617eee13
DTSTART;TZID=UTC:20200326T183000
SEQUENCE:0
TRANSP:OPAQUE
URL:https://veterans.georgia.gov/events/2020-03-26/postponed-honoring-georg
 ias-korean-war-veterans
LOCATION:674 American Legion Rd NE CONYERS\, GA 30012
SUMMARY:POSTPONED - Honoring Georgia's Korean War Veterans
CLASS:PUBLIC
DESCRIPTION:The Consulate General of the Republic of Korea in Atlanta\, th
 e Georgia Department of Veterans Service\, and the Walk of Heroes/Veterans
  War Memorial are hosting a special medal and certificate ceremony to sa
 y “Thank You” to Korean War Veterans for their honorable military serv
 ice and personal sacrifice.\n\n\n\nRegistration is required to receive a c
 ertificate.\n\n\n\nKorean War veterans interested in receiving a certifica
 te should fill out the form attached below and return it to the GDVS. Vete
 rans may also contact the GDVS Central Office via email gavetsvc@vs.state
 .ga.us with their DD Form 214 attached\, or fax their information (name\,
  address\, phone number and guest count) and DD Form 214 to 404- 656-7006.
 \n\n\n\nSubmissions should be marked with “Conyers Certificates.”\n\n
 \n\nFor more information call the GDVS Public Information Division at 404
 -656-5933.
DTSTAMP:20210428T014351Z
END:VEVENT
END:VCALENDAR