BEGIN:VCALENDAR
VERSION:2.0
PRODID:veterans.georgia.gov
X-WR-TIMEZONE:America/New_York
BEGIN:VTIMEZONE
TZID:America/New_York
X-LIC-LOCATION:America/New_York
END:VTIMEZONE
BEGIN:VEVENT
UID:6089a8441c8ed
DTSTART;VALUE=DATE:20200907
SEQUENCE:0
TRANSP:OPAQUE
URL:https://veterans.georgia.gov/events/2020-09-07/offices-closed
SUMMARY:Offices Closed
CLASS:PUBLIC
X-MICROSOFT-CDO-ALLDAYEVENT:TRUE
DTSTAMP:20210428T142404Z
END:VEVENT
END:VCALENDAR